BEGIN:VCALENDAR
VERSION:2.0
PRODID:-//wp-events-plugin.com//7.2.3.1//EN
TZID:Europe/Amsterdam
X-WR-TIMEZONE:Europe/Amsterdam
BEGIN:VEVENT
UID:46@mastersprint.nl
DTSTART;TZID=Europe/Amsterdam:20240922T130000
DTEND;TZID=Europe/Amsterdam:20240922T180000
DTSTAMP:20240206T121712Z
URL:https://mastersprint.nl/Wedstrijdkalender/15e-nederlandse-masters-club
 -meet-2024/
SUMMARY:15e Nederlandse Masters Club Meet 2024
DESCRIPTION:https://mastersprint.nl/nmcm-2024\n\n&nbsp\;
ATTACH;FMTTYPE=image/jpeg:https://mastersprint.nl/wp-content/uploads/2024/
 02/Mastersprint_website_blog-_KJV5765_20171222_104718-NMCM2024_FB.jpg
CATEGORIES:Kampioenschappen,NMCM
LOCATION:Sportcomplex Koning Willem-Alexander - Hoofddorp\, Bennebroekerweg
  800\, Hoofddorp\, Noord-Holland\, 2134 AB\, Nederland
GEO:52.301378;4.630914
X-APPLE-STRUCTURED-LOCATION;VALUE=URI;X-ADDRESS=Bennebroekerweg 800\, Hoofd
 dorp\, Noord-Holland\, 2134 AB\, Nederland;X-APPLE-RADIUS=100;X-TITLE=Spor
 tcomplex Koning Willem-Alexander - Hoofddorp:geo:52.301378,4.630914
END:VEVENT
BEGIN:VTIMEZONE
TZID:Europe/Amsterdam
X-LIC-LOCATION:Europe/Amsterdam
BEGIN:DAYLIGHT
DTSTART:20240331T030000
TZOFFSETFROM:+0100
TZOFFSETTO:+0200
TZNAME:CEST
END:DAYLIGHT
END:VTIMEZONE
END:VCALENDAR