BEGIN:VCALENDAR
VERSION:2.0
PRODID:-//wp-events-plugin.com//7.2.3.1//EN
TZID:Europe/Amsterdam
X-WR-TIMEZONE:Europe/Amsterdam
BEGIN:VEVENT
UID:44@mastersprint.nl
DTSTART;TZID=Europe/Amsterdam:20231208T193000
DTEND;TZID=Europe/Amsterdam:20231208T220000
DTSTAMP:20231107T083345Z
URL:https://mastersprint.nl/Wedstrijdkalender/mastersprintwedstrijd-h2olda
 mbt-gzvw-2023/
SUMMARY:Mastersprintwedstrijd H2Oldambt GZVW 2023
DESCRIPTION:\n\n\nDatum wedstrijd\n08/12/2023\n\n\nDatum sluiting inschrijv
 ing\n01/12/2023\n\n\nInzwemmen\n19:30uur\n\n\nWedstrijd\n20:00uur\n\n\nBaa
 nlengte\n25 meter indoor\n\n\nAantal Banen\n6\n\n\nTijdmeting\nHandmatig\n
 \n\nVanaf Leeftijd\n20+\n\n\nWebsite link\nhttps://webkalender.knzb.nl/web
 kalender/wedstrijd/24677\n\n\nBeschrijving\n\n\n\n
ATTACH;FMTTYPE=image/jpeg:https://mastersprint.nl/wp-content/uploads/2023/
 11/logo-H2Oldambt-2023-GZVW.png
LOCATION:Zwembad De Watertoren - Winschoten\, Watertorenstraat 16\, Winscho
 ten\, Groningen\, 9671 LJ\, Noord\, Nederland
GEO:53.14073;7.027133
X-APPLE-STRUCTURED-LOCATION;VALUE=URI;X-ADDRESS=Watertorenstraat 16\, Winsc
 hoten\, Groningen\, 9671 LJ\, Noord\, Nederland;X-APPLE-RADIUS=100;X-TITLE
 =Zwembad De Watertoren - Winschoten:geo:53.14073,7.027133
END:VEVENT
BEGIN:VTIMEZONE
TZID:Europe/Amsterdam
X-LIC-LOCATION:Europe/Amsterdam
BEGIN:STANDARD
DTSTART:20231029T020000
TZOFFSETFROM:+0200
TZOFFSETTO:+0100
TZNAME:CET
END:STANDARD
END:VTIMEZONE
END:VCALENDAR