BEGIN:VCALENDAR
VERSION:2.0
PRODID:-//wp-events-plugin.com//7.2.3.1//EN
TZID:Europe/Amsterdam
X-WR-TIMEZONE:Europe/Amsterdam
BEGIN:VEVENT
UID:72@mastersprint.nl
DTSTART;TZID=Europe/Amsterdam:20251108T150000
DTEND;TZID=Europe/Amsterdam:20251108T180000
DTSTAMP:20251009T125621Z
URL:https://mastersprint.nl/Wedstrijdkalender/masterswedstrijd-midden-nede
 rland-25-26-deel-1/
SUMMARY:Masterswedstrijd Midden-Nederland 25/26 deel 1
DESCRIPTION:\n\n\nOrganisator\nZV De Blauwe Schuur\n\n\nDatum wedstrijd\nza
 terdag 8 november 2025\n\n\nDatum sluiting inschrijving\nn.n.b.\n\n\nInzwe
 mmen\n15:00 uur\n\n\nStart wedstrijd\n15:30 uur\n\n\nBaanlengte\n25 meter 
 indoor\n\n\nAantal Banen\n5\n\n\nTijdmeting\nHandmatig\n\n\nVanaf Leeftijd
 \n20+\n\n\nWebsite link\nKNZB webkalender - https://webkalender.knzb.nl/we
 dstrijd/zwemmen/27996\n\n\nBeschrijving\nNieuw: Masterswedstrijd Midden-Ne
 derland Deel 1 van 4\n\n\n
ATTACH;FMTTYPE=image/jpeg:https://mastersprint.nl/wp-content/uploads/2023/
 02/Logo_DBS_Rhenen_open_Outline_800.png
CATEGORIES:Masterswedstrijden Midden-Nederland
LOCATION:Zwembad ‘t Gastland - Rhenen\, Groeneweg 58\, Rhenen\, Utrecht\,
  3911 PG \, Nederland
GEO:51.961961;5.566605
X-APPLE-STRUCTURED-LOCATION;VALUE=URI;X-ADDRESS=Groeneweg 58\, Rhenen\, Utr
 echt\, 3911 PG \, Nederland;X-APPLE-RADIUS=100;X-TITLE=Zwembad ‘t Gastla
 nd - Rhenen:geo:51.961961,5.566605
END:VEVENT
BEGIN:VTIMEZONE
TZID:Europe/Amsterdam
X-LIC-LOCATION:Europe/Amsterdam
BEGIN:STANDARD
DTSTART:20251026T020000
TZOFFSETFROM:+0200
TZOFFSETTO:+0100
TZNAME:CET
END:STANDARD
END:VTIMEZONE
END:VCALENDAR