BEGIN:VCALENDAR
VERSION:2.0
PRODID:-//wp-events-plugin.com//7.2.3.1//EN
TZID:Europe/Amsterdam
X-WR-TIMEZONE:Europe/Amsterdam
BEGIN:VEVENT
UID:73@mastersprint.nl
DTSTART;TZID=Europe/Amsterdam:20260131T170000
DTEND;TZID=Europe/Amsterdam:20260131T200000
DTSTAMP:20260122T182318Z
URL:https://mastersprint.nl/Wedstrijdkalender/masterswedstrijd-midden-nede
 rland-25-26-deel-2/
SUMMARY:Masterswedstrijd Midden-Nederland 25/26 deel 2
DESCRIPTION:\n\n\nOrganisator\nGoswim\n\n\nDatum wedstrijd\nzaterdag 31 jan
 uari 2026\n\n\nDatum sluiting inschrijving\nn.n.b.\n\n\nInzwemmen\n17:00 u
 ur\n\n\nAanvang wedstrijd\n17:30 uur\n\n\nBaanlengte\n25 meter indoor\n\n\
 nAantal Banen\n6\n\n\nTijdmeting\nHandmatig\n\n\nVanaf Leeftijd\n20+\n\n\n
 Website link\nKNZB webkalender - Organisatie website\n\n\nBeschrijving\nM
 asterswedstrijd Midden-Nederland Deel 2 van 4\n\n\n
ATTACH;FMTTYPE=image/jpeg:https://mastersprint.nl/wp-content/uploads/2025/
 07/GoSwim_logo_OranjeZwart.jpg
CATEGORIES:Masterswedstrijden Midden-Nederland
LOCATION:De Wetering - Houten\, Hefbrug 3\, Houten\, Utrecht\, 3991 LB\, Ne
 derland
GEO:52.022519;5.158579
X-APPLE-STRUCTURED-LOCATION;VALUE=URI;X-ADDRESS=Hefbrug 3\, Houten\, Utrech
 t\, 3991 LB\, Nederland;X-APPLE-RADIUS=100;X-TITLE=De Wetering - Houten:ge
 o:52.022519,5.158579
END:VEVENT
BEGIN:VTIMEZONE
TZID:Europe/Amsterdam
X-LIC-LOCATION:Europe/Amsterdam
BEGIN:STANDARD
DTSTART:20251026T020000
TZOFFSETFROM:+0200
TZOFFSETTO:+0100
TZNAME:CET
END:STANDARD
END:VTIMEZONE
END:VCALENDAR