BEGIN:VCALENDAR
VERSION:2.0
PRODID:-//wp-events-plugin.com//7.2.3.1//EN
TZID:Europe/Amsterdam
X-WR-TIMEZONE:Europe/Amsterdam
BEGIN:VEVENT
UID:48@mastersprint.nl
DTSTART;TZID=Europe/Amsterdam;VALUE=DATE:20240502
DTEND;TZID=Europe/Amsterdam;VALUE=DATE:20240506
DTSTAMP:20240319T105257Z
URL:https://mastersprint.nl/Wedstrijdkalender/onmk-2024-lange-baan-eindhov
 en/
SUMMARY:ONMK 2024 lange baan Eindhoven
DESCRIPTION:https://mastersprint.nl/onmk2024lb/
ATTACH;FMTTYPE=image/jpeg:https://mastersprint.nl/wp-content/uploads/2024/
 02/FB_Mastersprint-ONMK2024lb_KJV8333_20220507_121650.jpg
CATEGORIES:Kampioenschappen,ONMK
LOCATION:Pieter van den Hoogenband zwemstadion - Eindhoven\, Antoon Coolenl
 aan 1\, Eindhoven\, 5644RX\, Zuid\, Nederland
GEO:51.415969;5.477902
X-APPLE-STRUCTURED-LOCATION;VALUE=URI;X-ADDRESS=Antoon Coolenlaan 1\, Eindh
 oven\, 5644RX\, Zuid\, Nederland;X-APPLE-RADIUS=100;X-TITLE=Pieter van den
  Hoogenband zwemstadion - Eindhoven:geo:51.415969,5.477902
END:VEVENT
BEGIN:VTIMEZONE
TZID:Europe/Amsterdam
X-LIC-LOCATION:Europe/Amsterdam
BEGIN:DAYLIGHT
DTSTART:20240331T030000
TZOFFSETFROM:+0100
TZOFFSETTO:+0200
TZNAME:CEST
END:DAYLIGHT
END:VTIMEZONE
END:VCALENDAR