BEGIN:VCALENDAR
VERSION:2.0
PRODID:-//wp-events-plugin.com//7.2.3.1//EN
TZID:Europe/Amsterdam
X-WR-TIMEZONE:Europe/Amsterdam
BEGIN:VEVENT
UID:76@mastersprint.nl
DTSTART;TZID=Europe/Amsterdam:20250920T133000
DTEND;TZID=Europe/Amsterdam:20250920T163000
DTSTAMP:20250823T125956Z
URL:https://mastersprint.nl/Wedstrijdkalender/rom-2025-2026-deel-1-zwijndr
 echt/
SUMMARY:ROM 2025/2026 deel 1 Zwijndrecht
DESCRIPTION:\n\n\nDatum wedstrijd\n20/09/2025\n\n\nDatum sluiting inschrijv
 ing\n\n\n\nInzwemmen\n13:30uur\n\n\nWedstrijd\n14:00uur\n\n\nBaanlengte\n2
 5 meter indoor\n\n\nAantal Banen\n8\n\n\nTijdmeting\nHandmatig\n\n\nVanaf 
 Leeftijd\n20+\n\n\nWebsite link\nhttps://www.knzbwest.nl/wedstrijdzwemmen/
 masters\n\n\nBeschrijving\nRegio West Open Masters\n\n\n
ATTACH;FMTTYPE=image/jpeg:https://mastersprint.nl/wp-content/uploads/2025/
 08/KNZBRegioWest2.jpg
CATEGORIES:Regio West Open Masters,ROM
LOCATION:Zwembad De Hoge Devel - Zwijndrecht\, Parklaan 3\, Zwijndrecht\, 3
 335 LM\, Nederland
GEO:51.819272;4.623986
X-APPLE-STRUCTURED-LOCATION;VALUE=URI;X-ADDRESS=Parklaan 3\, Zwijndrecht\, 
 3335 LM\, Nederland;X-APPLE-RADIUS=100;X-TITLE=Zwembad De Hoge Devel - Zwi
 jndrecht:geo:51.819272,4.623986
END:VEVENT
BEGIN:VTIMEZONE
TZID:Europe/Amsterdam
X-LIC-LOCATION:Europe/Amsterdam
BEGIN:DAYLIGHT
DTSTART:20250330T030000
TZOFFSETFROM:+0100
TZOFFSETTO:+0200
TZNAME:CEST
END:DAYLIGHT
END:VTIMEZONE
END:VCALENDAR