BEGIN:VCALENDAR
VERSION:2.0
PRODID:-//wp-events-plugin.com//7.2.3.1//EN
TZID:Europe/Amsterdam
X-WR-TIMEZONE:Europe/Amsterdam
BEGIN:VEVENT
UID:77@mastersprint.nl
DTSTART;TZID=Europe/Amsterdam:20251019T133000
DTEND;TZID=Europe/Amsterdam:20251019T163000
DTSTAMP:20250823T130037Z
URL:https://mastersprint.nl/Wedstrijdkalender/rom-2025-2026-deel-2-papendr
 echt/
SUMMARY:ROM 2025/2026 deel 2 Papendrecht
DESCRIPTION:\n\n\nDatum wedstrijd\n19/10/2025\n\n\nDatum sluiting inschrijv
 ing\n\n\n\nInzwemmen\n13:30uur\n\n\nWedstrijd\n14:00uur\n\n\nBaanlengte\n2
 5 meter indoor\n\n\nAantal Banen\n8\n\n\nTijdmeting\nElectronisch\n\n\nVan
 af Leeftijd\n20+\n\n\nWebsite link\nhttps://www.knzbwest.nl/wedstrijdzwemm
 en/masters\n\n\nLive Timing\nhttps://knzbwest.cfas.nl/RWOM2024-2025_2/\n\n
 \nBeschrijving\nRegio West Open Masters\n\n\n
ATTACH;FMTTYPE=image/jpeg:https://mastersprint.nl/wp-content/uploads/2025/
 08/KNZBRegioWest2.jpg
CATEGORIES:Regio West Open Masters,ROM
LOCATION:Sportcentrum Papendrecht\, Burgemeester Keijzerweg 110\, Papendrec
 ht\, Zuid-Holland\, 3353CV\, Nederland
GEO:51.834477;4.692678
X-APPLE-STRUCTURED-LOCATION;VALUE=URI;X-ADDRESS=Burgemeester Keijzerweg 110
 \, Papendrecht\, Zuid-Holland\, 3353CV\, Nederland;X-APPLE-RADIUS=100;X-TI
 TLE=Sportcentrum Papendrecht:geo:51.834477,4.692678
END:VEVENT
BEGIN:VTIMEZONE
TZID:Europe/Amsterdam
X-LIC-LOCATION:Europe/Amsterdam
BEGIN:DAYLIGHT
DTSTART:20250330T030000
TZOFFSETFROM:+0100
TZOFFSETTO:+0200
TZNAME:CEST
END:DAYLIGHT
END:VTIMEZONE
END:VCALENDAR