BEGIN:VCALENDAR
VERSION:2.0
PRODID:-//wp-events-plugin.com//7.2.3.1//EN
TZID:Europe/Amsterdam
X-WR-TIMEZONE:Europe/Amsterdam
BEGIN:VEVENT
UID:78@mastersprint.nl
DTSTART;TZID=Europe/Amsterdam:20260118T140000
DTEND;TZID=Europe/Amsterdam:20260118T170000
DTSTAMP:20250916T101537Z
URL:https://mastersprint.nl/Wedstrijdkalender/rom-2025-2026-deel-3-leiden/
SUMMARY:ROM 2025/2026 deel 3 Leiden
DESCRIPTION:\n\n\nDatum wedstrijd\n18/01/2026\n\n\nInzwemmen\n14:00 uur\n\n
 \nWedstrijd\n14:30 uur\n\n\nBaanlengte\n25 meter indoor\n\n\nAantal Banen\
 n10\n\n\nTijdmeting\nElectronisch\n\n\nVanaf Leeftijd\n20+\n\n\nWebsite li
 nk\nhttps://www.knzbwest.nl/wedstrijdzwemmen/masters\n\n\nBeschrijving\nRe
 gio West Open Masters\n\n\n
ATTACH;FMTTYPE=image/jpeg:https://mastersprint.nl/wp-content/uploads/2025/
 08/KNZBRegioWest2.jpg
CATEGORIES:Regio West Open Masters,ROM
LOCATION:Zwembad De Vliet - Leiden\, Voorschoterweg 6\, Leiden\, Zuid Holla
 nd \, 2324 NE\, Nederland
GEO:52.140054;4.48242
X-APPLE-STRUCTURED-LOCATION;VALUE=URI;X-ADDRESS=Voorschoterweg 6\, Leiden\,
  Zuid Holland \, 2324 NE\, Nederland;X-APPLE-RADIUS=100;X-TITLE=Zwembad De
  Vliet - Leiden:geo:52.140054,4.48242
END:VEVENT
BEGIN:VTIMEZONE
TZID:Europe/Amsterdam
X-LIC-LOCATION:Europe/Amsterdam
BEGIN:STANDARD
DTSTART:20251026T020000
TZOFFSETFROM:+0200
TZOFFSETTO:+0100
TZNAME:CET
END:STANDARD
END:VTIMEZONE
END:VCALENDAR